Workbook
Name Check190: Lists!$W$16
Name Check191: Lists!$W$17
Name Check192: Lists!$W$19
Name counter: COUNTA(INDEX(#REF!,,MATCH(#REF!,#REF!,0)))
Name counter: COUNTA(INDEX(findings[],,MATCH('Overview & Guidance'!$B$59,findings[#Headers],0)))
Name finding_method: #REF!
Name finding_method: findings[#Headers]
Name findings_list: INDEX(#REF!,1,MATCH('Health & Safety'!findings_method,#REF!,0)):INDEX(#REF!,'Health & Safety'!counter,MATCH('Health & Safety'!findings_method,#REF!,0))
Name findings_list: INDEX(findings[],1,MATCH(findings_method,findings[#Headers],0)):INDEX(findings[],counter,MATCH(findings_method,findings[#Headers],0))
Name findings_method: #REF!
Name findings_method: 'Overview & Guidance'!$B$59
Name How_this_audit_was_carried_out?: 'Overview & Guidance'!$B$32
Name list_audit_type: #REF!
Name list_audit_type: audit_type[audit type]
Name list_containment_control: #REF!
Name list_containment_control: containment_control[Containment Control range]
Name list_finding_status: #REF!
Name list_finding_status: finding_status[Finding Status]
Name list_fire_detection: #REF!
Name list_fire_detection: fire_detection[Fire Detection]
Name list_timescale: #REF!
Name list_timescale: finding_timescale[Finding timescale]
Name list_verification_method: #REF!
Name list_verification_method: verification_method[Verification Method]
Name list_waste_incineration: #REF!
Name list_waste_incineration: waste_incineration[Waste-incineration]
Name list_YesNo: #REF!
Name list_YesNo: YesNo[YesNo]
Name list_YesNoNA: #REF!
Name list_YesNoNA: YesNoNA[YesNoNA]
Name list_YesNoNANotReviewed: #REF!
Name list_YesNoNANotReviewed: Table8[YesNoNANotReviewed]
Name list_YesNoNotReviewed: #REF!
Name list_YesNoNotReviewed: YesNoNotReviewed[YesNoNotReviewed]
Name lists_test_frequency: #REF!
Name lists_test_frequency: continuity_freq[Business continuity - test frequency]
Name payment: #REF!
Name payment: payment_method[Payment method]
Name Question: #REF!
Name Question: #REF!
Name QuestionID: #REF!
Name QuestionID: #REF!
Name Service: #REF!
Name Service: #REF!
Name ServiceID: #REF!
Name ServiceID: #REF!
Name Slicer_Category: #N/A
Name Slicer_Completion_Timescale: #N/A
Name Slicer_Finding: #N/A
Name Slicer_Finding_Type: #N/A
Name Slicer_Responsible_Person: #N/A
Name Slicer_Status: #N/A
Name Slicer_Verification_Method: #N/A
Name StaticID: #REF!
Name StaticID: #REF!
Name StaticQ: #REF!
Name StaticQ: #REF!

Sheet Overview & Guidance
A1: Pharmaceutical Supply Chain Initiative
A2: Self-Assessment Questionnaire and Audit Report Template
A4: Overview and Guidance | E4: Version 9.0 - September 2024
A6: PSCI Audit Sharing Platform
A7: PSCI members have standardised this audit template. The PSCI audit sharing program enables suppliers to share audits reports and actions plans with more than one member via a safe and confidential web-based platform. This means fewer audits for each supplier and efficiency gains for PSCI members. For further information about PSCI Audit sharing program, feel free to contact a PSCI member or info@pscintiative.org
A9: Guidance for completion
A10: Suppliers and auditors are asked to complete all questions that apply. If a question does not apply please select NA (Not Applicable). We expect the following types of suppliers to complete all the questions: Service Providers and Suppliers of non-supply chain goods. Where appropriate, please embed supporting documents using Excel's Insert Object function. When printing, the workbook will automatically fit the visible columns onto one page. Use the group function at the top of each sheet to display and print fewer columns. This will increase the text size on printed pages. We have added this feature to the sheets with the most columns. Please ensure the name of each tab remains unaltered, particularly if you want to replace a tab with a completed section from another audit. This is important to ensure the calculations and summary table at the end of the document work correctly. To clear the contents of a cell, press "Delete" Please check spelling on all sheets before submitting. You can do this by pressing F7 on your keyboard. When filling in the SAQ please remember: The final Audit Report is required to be uploaded to the PSCI platform. At this point of time the audit report is only disclosed to the auditee (supplier), if applicable to the sponsor (PSCI Member who organized or paid for the audit) and the Database Administrator. Sharing of the audit of the audit would be the next step, and only takes place with the permission of the auditee (supplier) by data sharing agreement (digital or formsheet). Only PSCI approved audit firms or PSCI member auditors can conduct PSCI audits using this report template. If the findings relate to a violation of local regulations, reference to the documents should be provided.
A11: Key
A12: Cells in this colour should be completed by the supplier prior to the audit
A13: Cells in this colour should be completed by the auditor
A14: Cells in this colour will be populated automatically
A15: Cells in this colour have been completed
A16: i Cells in this colour highlight essential guidance for audit completion
A17: Cells in this colour are for those reviewing the audit to add comments
A19: Auditor and Audit Report Information
A20: Audit report number: | C20: Date of audit report (DD/MM/YYYY)
A21: Report owner:
A22: Date of audit (DD/MM/YYYY):
A23: Type of audit: | C23: If other, please specify:
A24: Date of previous audit (DD/MM/YYYY):
A25: Type of previous audit: | C25: If other, please specify:
A26: Audit firm name:
A27: Lead auditor name: | C27: Lead auditor job title:
A28: Names of further auditors: | C28: Further auditors' job titles:
A29: Phone number:
A30: Email:
A32: How was this audit carried out? | C32: If Fully Remote or Partly Remote, please specify the verification methods:
A34: i Please note that there are three ways to carry out an audit (Fully Remote, Partly Remote, Onsite). Please select which way was used. Fully Remote audit means the entire audit, including the verification of responses to questions within the SAQ all verified via remote methods, such as livestreaming video, telephone/video call, etc. Partly Remote audit means part of the audit was conducted remotely and part of the audit was conducted on-site. Onsite audit means the audit and the all verification of responses to questions on the SAQ were carried out via onsite visits. Additionally, if the audit was conducted either partly remote or fully remote, you'll be asked to comment on how on how you’ve collected and verified information by areas covered. | D34: i Please note you will be asked to specifiy the verification methods for each topic area covered in the corresponding sheet as well.
A37: What is the scope of this PSCI Audit?
A38: a) HSE + Human Rights & Ethics | D38: i Please indicate whether this is a 'Full' audit i.e. covering all Sections of the SAQ or whether it is limited to either HSE topics only or Human Rights & Ethics topics only
A39: b) HSE only
A40: c) Human Rights & Ethics only | C40: =IF(B40="Yes","Please fill out the 'Human Rights' tab in this questionnaire","")
A42: Facility Details
A43: Company name:
A44: Site name:
A45: Parent company name:
A46: Site street address:
A47: Site city: | C47: Site state/province/county:
A48: Site postal/zip code: | C48: Site country:
A49: Duns number (9 digit code)
...

Sheet Facility Background Information
A1: Pharmaceutical Supply Chain Initiative
A2: Self-Assessment Questionnaire and Audit Report Template
A4: Facility Background Information
B6: Supplier response | C6: Auditor comments | D6: Guidance
A7: Please indicate which of the following best describes this facility (check all that apply):
A8: Category A
A9: Facility & Engineering Services
A10: Temporary Labor Agency
A11: Travel & Fleet services
A12: IT Services or hardware supply
A13: Other Materials (e.g. marketing, IT hardware, lab equipment, garments)
A14: Other Services (e.g. IT, marketing, travel, fleet, research, catering)
A15: Other
A16: If other, please describe:
A17: Is the facility located in a region that has experienced any of the following natural disasters which have had a direct impact on the facility (check all that apply):
A18: Flood
... A29: Please describe the facility HSE (Health Safety & Environment) resources (number of staff or time spent on HSE):
A30: Please provide a copy of the company’s organization chart indicating areas of expertise in HSE and whether they are full time. Please provide qualifications of the full time HSE people. | D30: i Please embed the document into cell B46 using Excel's Insert Object function (found in Insert/Text/Object)
A31: Please provide qualifications of the full time HSE people. | D31: i Please embed the document into cell B46 using Excel's Insert Object function (found in Insert/Text/Object)
A32: Is the facility included in any management system certification schemes, such as ISO 14001:2015; ISO 45001:2018; ISO 50001:2018 etc.
A33: If so, please provide details including dates of most recent assessment(s), expiry date(s) and validity of certification:
A34: Is the company/facility a member of any organisation or initiative that promotes sustainability?
A35: If so, please provide details:
A36: What is the primary language spoken by the majority of the employees at this location?
A37: Other languages (spoken by at least 10% of the workforce):
A38: Is company sponsored housing provided to any contract or full time employees working at this location?
A39: If yes, what is the approximate number of workers living in company-provided housing?
A40: Total site area (m2):
A41: Manufacturing area (m2):
A42: Does your company own the facility?
A43: If no, who owns the facility?
... A54: Number of employees/workers by category
B55: Male | C55: Female
A56: Total employee population onsite (including temporary, part-time and contract workers) | D56: i Provide data for the entire site. Also, please note that there may be workers/employees who fit into multiple categories and should be accounted for under each applicable category (i.e., there is overlap between categories)
A57: Full time employees/workers directly employed by the company
A58: Part-time employees/workers directly employed by the company
A59: Indirect, contract or dispatch employees/workers
A60: Employees/workers under the age of 18
A61: Migrant or Foreign Workers
A62: Student workers (include students, apprentices and interns)
...

Sheet Governance & Management Systems
A1: Pharmaceutical Supply Chain Initiative
A2: Self-Assessment Questionnaire and Audit Report Template | D2: In case of a partly remote audit: please specify the methods used when verification of self-assessment information was carried out remotely.
A4: Governance & Management Systems | M4: Reviewer comments
A5: i Please make sure the spelling of the tab name is exactly Governance & Management Systems
A6: i Please complete spell check once finished, by pressing F7 on your keyboard | C6: Self-assessment answer | D6: Auditor evaluation | F6: Findings | H6: Points of excellence | I6: Additional Auditor Guidance | M6: Reviewer responses, if needed
C7: Completed by supplier prior to audit | D7: Evaluation | E7: Observations, details, comments | F7: Findings classification | G7: Description of finding | H7: Description of points of excellence | I7: Where provided, it is mandatory to follow the guidance. | M7: <add instructions>
A8: Commitment and Accountability
A9: 1 | B9: Has the facility demonstrated commitment to the concepts described in the PSCI Principles (covering Governance & Management Systems, Ethics, Human Rights, Health and Safety and Environmental Protection)? And does the top management demonstrate leadership and commitment with these principles? | I9: i iv. Check whether there is open communication between employees and management, whether employees are empowered to approach management with suggestions and questions, any awareness programmes, any recognition and celebrations on successes of the business on topics related to PSCI Principles Management - Role model, safe behaviors - Regularly communicates about Health, Safety, Environmental Protection, Human Rights and Business Ethics being priorities - Conducts walkthroughs to reinforce safe and responsible behaviors
A10: i. | B10: Are relevant aspects of the Principles incorporated into business plans on a periodical basis?
A11: ii. | B11: Is appropriate resource allocated and are accountabilities known, clearly defined and communicated?
A12: iii. | B12: Do the concepts of the Principles appear in documents and in communications to employees, contractors and suppliers?
B13: Please explain:
A14: iv. | B14: Does the company actively work on creating a culture of responsible practices?
A15: Legal and Customer Requirements
A16: 2 | B16: Does the company have the required legal licences/permits for its operations, such as a valid business licence?
B17: If so, please provide details of licence/permit number(s), expiry date(s) and validity:
A18: 3 | B18: Are there any regulatory compliance issues with regards to Health and Safety, Ethics, Environment or Human Rights? | I18: i Check publicly available data about companies regarding regulatory compliance such as OSHA in USA or IPE in China. Also, please note that deficiencies in this question do not necessarily result in a finding. Check whether the facility experienced pending or recent (last three years) HSE incidents (for example, non-compliance events, spills, notice of violation, fines or other HSE events), and whether there have been any investigations or legal proceedings regarding corruption / bribery / fraud / human rights in the last five years.
A19: i. | B19: Is there any ongoing litigation or regulatory notices with respect to regulatory compliance?
A20: ii. | B20: Are there any historical major regulatory actions?
A21: iii. | B21: Any continuous / prolonged situations where regulatory compliance requirements are not in place or exceeded (within the past 3 years)?
B22: Please explain:
A23: 4 | B23: Does the facility have a process in place to identify, monitor, assess and evaluate legal requirements and others related to Health and Safety, Environment, Business Ethics, and Human Rights? | I23: i Check that the site has processes in place to ensure compliance with regulations in regards to the PSCI Principles. Does the company maintain a legal register listing applicable legislation related to Health and Safety, Environment, Business Ethics and Labor/Human Rights?
B24: Please explain:
A25: 5 | B25: Does the facility have processes in place to ensure responsible business practices with their suppliers, contractors and sub-contractors, aligned with the PSCI Principles (i.e. Human rights, Ethics, Environment, Health & Safety)? | I25: i Q5 The auditor should also verify the company's practices for managing risks associated with contractors and sub-contractors. Q5i. Traceability is using an appropriate methodology to track the sources of all components of products. The methodology should differentiate between the different companies in the supply chain, and should cover products as well as all ingredients and components used at any point in the supply chain. Q5ii “Known high-risk regions” include conflict regions and civil war zones, as identified by recognised specialized service providers. Conflict regions include conflict-affected areas per the OECD Due Diligence Guidance for Responsible Supply Chains of Minerals from Conflict-Affected and High-Risk Areas, EU Conflict Minerals Regulation and the US Dodd Frank Act. Suppliers shall demonstrate that they implemented responsible mineral sourcing and due diligence to identify and manage risks. Q5iii. Check whether the facility assesses suppliers for ethical behavior and reputation risk (include HSE) prior to selection and engagement, and whether there is a process in place to screen business partners against international sanctions lists.
A26: i. | B26: Does the facility have a traceability process in place for its supply chain?
A27: ii. | B27: Does the facility have a process to evaluate and mitigate the risks linked to sourcing, including from known high-risk regions globally?
B28: Please provide details of this sourcing process
A29: iii. | B29: Are responsible business expectations clearly communicated to the supplier and reinforced on a regular basis?
A30: iv. | B30: Is there a purchasing policy that ensures only approved suppliers are used?
A31: v. | B31: Are suppliers measured against the responsible business practice expectations?
B32: By on-site assessment / audit:
B33: By desk-top assessment (e.g. questionnaires, supplier self compliance statement):
A35: Risk Management
A36: 6 | B36: Does the facility and/or company risk assess their operations for potential impacts on health & safety, the environment, ethical conduct, or human rights? | I36: i Have risk assessments been completed to determine the effectiveness of programs, policies and SOPs to minimize business interruption, reputational and legal risks to operations and personal? i. How frequently (e.g. 2 to 5 years) are these assessments performed (does it vary based on risk type level?) ii. Is there a formal policy regarding risk assessments? If so, how is it communicated to impacted individuals
B37: Are there appropriate tools whereby programs, policies, and/or SOPs and major business impacts for the site are assessed routinely?
B38: Do these assessments include:
A39: i. | B39: Legal risks (environmental permits, fair wage practices, etc.):
A40: ii. | B40: Business interruption risks (examples: flood, severe weather, adjacent operations):
A41: iii. | B41: Reputation risks (community impacts, waste discharge, etc.):
B42: Please explain:
...

Sheet Ethics
A1: Pharmaceutical Supply Chain Initiative
A2: Self-Assessment Questionnaire and Audit Report Template | D2: In case of a partly remote audit: please specify the methods used when verification of self-assessment information was carried out remotely.
A4: Ethics | M4: Reviewer comments
A5: i Please make sure the spelling of the tab name is exactly Ethics
A6: i Please complete spell check once finished, by pressing F7 on your keyboard | C6: Self-assessment answer | D6: Auditor Evaluation | F6: Findings | H6: Points of excellence | I6: Additional Auditor Guidance | M6: Reviewer responses, if needed
C7: Completed by supplier prior to audit | D7: Evaluation | E7: Observations, details, comments | F7: Findings classification | G7: Description of finding | H7: Description of points of excellence | I7: Where provided, it is mandatory to follow the guidance. | M7: <add instructions>
A8: Business Integrity and Fair Competition
A9: 14 | B9: Does the facility or company have formal ethics policies, Codes of Conduct, tools or processes that govern company and employee business practices? | I9: i Does the facility have a management representative assigned responsibility for assuring compliance with labor, health, and safety laws, regulations, and codes? List the name(s) and title(s). - Please note, fair competition refers to competing companies, not competition between employees. - Conflict of interest includes but not limited to the following: Prevent employees from receiving or giving gifts or favours from/to Government officials / external companies / individuals that your company does business with?
B10: If yes, please indicate if the following are included:
A11: i. | B11: Anti-bribery and corruption
A12: ii. | B12: Fair competition
A13: iii. | B13: Conflict of interest
A14: iv. | B14: Ethical marketing and advertising
B15: Please provide a web link to the policy on your website
B16: Alternatively insert a copy of the policy
B17: Comments:
A19: Privacy
A20: 15 | B20: Does the facility or company ensure confidentiality and privacy of information concerning companies, individuals, workers, patient rights and intellectual property? | I20: i Additional Auditor Guidance Does the company demonstrate and implement data privacy policies and procedures?
B21: Data Privacy:
B22: General Data Protection Regulation (GDPR):
B23: Other? Please explain:
A26: Additional Findings - Ethics
A27: Were there any additional findings that weren't covered above? If yes, please specify below.
A28: E-1
A29: E-2
A30: E-3
A31: E-4
A32: E-5

Sheet Human Rights
A1: Pharmaceutical Supply Chain Initiative
A2: Self-Assessment Questionnaire and Audit Report Template | D2: In case of a partly remote audit: please specify the methods used when verification of self-assessment information was carried out remotely.
A4: Human Rights | M4: Reviewer comments
A5: i Please make sure the spelling of the tab name is exactly Human Rights
A6: i Please complete spell check once finished, by pressing F7 on your keyboard | C6: Self-assessment answer | D6: Auditor evaluation | F6: Findings | H6: Points of excellence | I6: Additional Auditor Guidance | M6: Reviewer responses, if needed
C7: Completed by supplier prior to audit | D7: Evaluation | E7: Observations, details, comments | F7: Findings classification | G7: Description of finding | H7: Description of points of excellence | I7: Where provided, it is mandatory to follow the guidance. | M7: <add instructions>
B8: General
A9: 16 | B9: Does the facility or company have a policy(ies) (or statement of commitment) regarding human rights and labor practices? | I9: i For Freedom of Movement: Auditor should verify - Does the facility or company ensure that employees are allowed to freely leave the company property after regular working time? - If security guards are on duty, does the site ensure that: i. Employees are not prevented from leaving the site after regular working time? - If personal searches are required, that they are carried out in a discreet manner (e.g. respecting gender and privacy? i. Vacation/ Maternity / paternity leave: Auditor should verify - Are all workers provided with paid annual leave, statutory holiday, maternity and paternity leave as per local legal requirements? i. Benefits: The Auditor should verify - Are all workers provided with other benefits e.g. medical insurance, pensions, social insurance as per local legal requirements? The auditor should further check whether additional compensation e.g. bonuses, transport, food, clothing etc. is provided, to which employees have a legal entitlement. i. Standard Working Hours: The auditor should verify - Are the working hours recorded? e.g. start of work and end of work; number of hours of overtime worked; days free from work; days of absence
B10: If yes, does the policy cover:
B11: Freely chosen employment
B12: Child labour and young workers
B13: Non-discrimination
B14: Fair treatment
B15: Wages, benefits, and working hours
B16: Freedom of association and right to collective bargaining
B17: Local communities
A18: 17 | B18: Does the facility or company have a publicly available policy or statement endorsed by senior management committing to respect for Human Rights, in accordance with internationally accepted standards i.e. - OECD Guidelines - UN Guiding Principles on Business and Human Rights | I18: i Ensure that the person who has endorsed the policy is at Board- or C suite-level Ensure that the policy or statement covers respect for human rights in the company’s own operations and its supply chain
B19: Please provide a web link to the policy on your web site
B20: Alternatively attach a copy of the policy to this questionnaire
B21: Comments:
A23: Freely chosen Labour
A24: 18 | B24: Does the company ensure that no forced, bonded, indentured or involuntary prison labor, human trafficking, or any form of modern slavery takes place in their operations and their supply chain?
B25: Please explain:
A27: Contract and Migrant Workers
A28: 19 | B28: Does the facility or company directly or indirectly use contract and/or migrant workers (both domestic and foreign migrant workers)? | I28: i Please note that country and intercountry law may be different.
B29: If yes, from which countries/provinces:
B30: Are contract and/or migrant workers recruited through agencies? | I30: i Check contract between supplier and recruitment agency (both local country agent and sending country agent): look for clause stating whether supplier pays recruitement fees and costs. If no clause exists, this is a red flag and indicates that it is likely that workers will be paying those fees. If you are told that local laws allow the payment of fees and costs by the migrant worker, this is in contradiction with internationally agreed standards and it remains a red flag.
B31: If yes, who pays for recruitment fees and costs (visas, transport, medical etc)?
A32: 20 | B32: Does the facility keep any original documents belonging to employees (e.g., passports or birth certificates) during the term of employment? | I32: i According to SA 8000, withholding of original documents (e.g. passports, birth certificates, religious records of age, work or residence permits, travel documents or any other documents that may have legal impact on workers’ legal status, freedom to travel or change jobs) is considered as forced labor, even if employees consent is available. However, in some countries it is legally required for an employer to keep documents like passports or ID cards. Where the practice is legally required, the auditor should note that documents are kept but it cannot be rated as critical or major finding as we have no leverage for change.
B33: If yes, which documents? Please list and explain:
A34: 21 | B34: Does the company maintain records of employee contracts that would demonstrate the terms and conditions of employment and termination? | I34: i The Auditor should verify if the contract includes the following: - Reasonable notice period to quit - Any/all fees including penalties for terminating employee. Are all employees in the company free within the legal framework to terminate their employment on their own decision? The auditor should verify if the company ensures that there is no money of its employees (deposit, credits) kept as a condition of employment.
A35: i. | B35: Are employees provided with a copy of their contracts or terms of conditions prior to hiring and are such contracts written in a language that they can understand?
A36: Child Labor and Young Workers
A37: Child Labor and Young Workers
A38: 22 | B38: Does the facility or company ensure that no child labor takes place in their operations and in their supply chain? | I38: i Definitions according SA 8000 1. Child: any person under 15 years of age, unless the minimum age for work or mandatory schooling is higher by local law, in which case the stipulated higher age applies in that locality 2. Child labour: any work performed by a child younger than the age(s) specified in the above definition of a child, except as provided for by ILO recommendation 146*. 3. Remediation of child labourers: all support and actions necessary to ensure the safety, health, education and development of children who have been subjected to child labour, as defined above, and whose work has been terminated. The ILO Minimum Age Convention 138 (1973) and the Worst Forms of Child Labour Convention 182 (1999) are the two cornerstones addressing issues with regards to child labor. *Convention 138 with Recommendation 146 allows some developing countries to set a minimum age for general employment at 14 and a minimum age for light work at 12 • Check local legislation • Ensure that contract labour agencies do not employ children i Check whether the company uses child labor and whether young workers engage in hazardous work with: • Verification by documentation review e.g. review of documentation confirms presence of policy prohibiting employment of child labor e.g. review of training records shows that training on discrimination and harassment is provided to employees e.g. review of documentation confirms that policies / procedures are available / accessible. • Verification by interviewing employees E.g. Interviews w/employees reveal that they have received training on preventing discrimination and harassment E.g. Interviews w/employees reveal that they are familiar with the company’s policy on discrimination and harassment E.g. Interviews w/employees reveal that they know how to report known or suspected violations of company policies • Verification by during facility tour/inspection E.g. Tour of facility - revealed no presence of any child labour E.g. Tour of facility - no evidence of young workers conducting hazardous work
B39: Please explain:
A40: i. | B40: Age of youngest worker
A41: ii. | B41: What remediation measures are taken in the case that child labor is detected? Please explain:
A42: 23 | B42: Please briefly describe the activities performed by young workers: | I42: i Look at hours, activities etc. if they have young workers (Definition of young worker according to SA 8000: any worker under the age of 18 but over the age of a child), Further guidance provided by SA 8000: The organisation may employ young workers, but where such young workers are subject to compulsory education laws, they shall work only outside of school hours. Under no circumstances shall any young worker’s school, work and transportation time exceed a combined total of 10 hours per day, and in no case shall young workers work more than 8 hours a day. Young workers may not work during night hours. The organisation shall not expose young workers to any situations – in or outside of the workplace – that are hazardous or unsafe to their physical and mental health and development. Also see SA 8000 Guidance on Apprenticeship or on-the-job training programs: Organisations must ensure that any such programs do not in any way abuse the rights of young workers. Young workers cannot be paid less than adults for the same type and amount of work. The organisation should maintain accurate payroll records to ensure that young workers receive equal pay for equal work. Any apprenticeship schemes should be for a defined period of time with structured oversight by, or registration with, a government agency, or by an alternative competent and credible authority where government registration and oversight is not required. In countries where local laws permit the payment of stipends or lower pay during an apprenticeship period or training program, the organisation must ensure that it meets the specific conditions of the law and has systems in place to ensure the protection of young workers’ rights. Apprenticeship schemes should not be used for extended periods of time to substitute for full-time work. Check whether the company uses child labor and whether young workers engage in hazardous work with: • Verification by documentation review e.g. review of documentation confirms presence of policy prohibiting employment of child labor e.g. review of training records shows that training on discrimination and harassment is provided to employees e.g. review of documentation confirms that policies / procedures are available / accessible. • Verification by interviewing employees E.g. Interviews w/employees reveal that they have received training on preventing discrimination and harassment E.g. Interviews w/employees reveal that they are familiar with the company’s policy on discrimination and harassment E.g. Interviews w/employees reveal that they know how to report known or suspected violations of company policies • Verification by during facility tour/inspection E.g. Tour of facility - revealed no presence of any child labour E.g. Tour of facility - no evidence of young workers conducting hazardous work
A43: i. | B43: Maximum working hours for young workers:
...

Sheet Environment
A1: Pharmaceutical Supply Chain Initiative
A2: Self-Assessment Questionnaire and Audit Report Template | D2: In case of a partly remote audit: please specify the methods used when verification of self-assessment information was carried out remotely.
A4: Environment | M4: Reviewer comments
A5: i Please make sure the spelling of the tab name is exactly Environment
A6: i Please complete spell check once finished, by pressing F7 on your keyboard | C6: Self-assessment answer | D6: Auditor evaluation | F6: Findings | H6: Points of excellence | I6: Additional Auditor Guidance | M6: Reviewer responses, if needed
C7: Completed by supplier prior to audit | D7: Evaluation | E7: Observations, details, comments | F7: Findings classification | G7: Description of finding | H7: Description of points of excellence | I7: Where provided, it is mandatory to follow the guidance. | M7: <add instructions>
A8: General
A9: 32 | B9: Does the facility have written environmental policy, procedures, and practices?
A10: i. | B10: Environmental policy?
A11: ii. | B11: Environmental procedures?
B12: Comments
B13: If yes, please provide a copy of the policy and list of the procedure titles.
A14: iii. | B14: Are these controlled documents? (i.e. are they reviewed regularly?)
A15: 33 | B15: Does the facility have documented environmental objectives or goals for performance improvement, including metrics and targets? | I15: i Describe any formal or informal programs or procedures to reduce environmental impacts, noting any improvements made in recent (3) years. Does the supplier disclose environmental emissions and impacts to CDP? Examples of objectives or goals could be in relation to internal targets, Science Based targets, climate change initiatives, use of renewable energy etc.
B16: If yes, please describe goals, metrics, and/or targets and any improvements made in last 3 years
B17: Do you track and have reduction programs in place for the following:
A18: i. | B18: Energy consumption:
B19: Program description:
A20: ii. | B20: Water consumption:
B21: Program description:
A22: iii. | B22: Amount of hazardous waste:
B23: Program description:
A24: iv. | B24: Amount of non-hazardous waste:
B25: Program description:
A26: v. | B26: Greenhouse gas emissions:
B27: Program description:
A28: vi. | B28: Does your company/facility publicly report data:
B29: If yes, where can the information be found?
B30: If no, please add any comments here
A31: Waste and Emissions
A32: 34 | B32: Does the facility have a process to select and manage third-party waste treatment and disposal facilities and service providers? | I32: i Check records/supporting documents such as manifests or shipping records, supplier selection procedure, contracts, audits of waste vendors, etc. Indicate any non-compliance(s) for the site or contracted waste management supplier. Describe assurances that waste disposal contractors possess authorizations /certifications from regulatory authorities to manage specific waste streams in accordance with local regulations and that containment and monitoring programs are in place. Describe selection process review for the use of third-party waste facility or provider. Does it include considerations for staffing and API residual management? Are the third-party waste treatment vendors used by the facility approved by regulatory authorities? How does the site know that they have valid Environmental permits? How are third-party waste vendors reviewed periodically for their HSE performance/compliance? How are waste manifest/transfer record systems followed and maintained for disposal of wastes as per applicable regulations?
B33: What records or documentations of waste disposal are maintained:
B34: Please provide specific details on land filling of waste (categories and volumes):
A35: Additional Findings - Environment
B36: Were there any additional findings that weren't covered above? If yes, please specify below.
A37: Ev-1
A38: Ev-2
A39: Ev-3
A40: Ev-4
A41: Ev-5
...

Sheet Health & Safety
A1: Pharmaceutical Supply Chain Initiative
A2: Self-Assessment Questionnaire and Audit Report Template | D2: In case of a partly remote audit: please specify the methods used when verification of self-assessment information was carried out remotely.
A3: Please note in your response if a question in this section is not relevant to the site.
A4: Health & Safety | M4: Reviewer comments
A5: i Please make sure the spelling of the tab name is exactly Health & Safety
A6: i Please complete spell check once finished, by pressing F7 on your keyboard | D6: Auditor evaluation | F6: Findings | H6: Points of excellence | I6: Additional Auditor Guidance | M6: Reviewer responses, if needed
C7: Completed by supplier prior to audit | D7: Evaluation | E7: Observations, details, comments | F7: Findings classification | G7: Description of finding | H7: Description of points of excellence | I7: Where provided, it is mandatory to follow the guidance. | M7: <add instructions>
B8: General
A9: 35 | B9: Does the facility have a written Health & Safety policy, procedures, and practices?
A10: i. | B10: Policy | P10: 311
B11: If yes, provide a copy of the policy | P11: 312
A12: ii. | B12: Procedures | P12: 313
B13: If yes, please list the procedure titles: | P13: 314
A14: iii. | B14: Are these controlled documents? (i.e. are they reviewed regularly?)
A15: 36 | B15: Does the facility have any documented Health & Safety objectives and targets or goals for performance improvement, including metrics (including KPIs)? | P15: 315
B16: Please describe: | P16: 316
A17: 37 | B17: Indicate the number of significant Health & Safety incidents that occurred at this facility over the past three years? (Significant incidents are defined as: causing serious injuries or fatalities; a fire resulting in damage to process equipment, building, storage areas; physical explosions, fines or violations.) If any of these incidents were or are not being tracked, please indicate this by adding “not tracked” to the appropriate cell | I17: i Please note that deficiencies in this question do not necessarily result in a finding.
B18: Serious injuries | P18: 318
B19: Three years ago | P19: 319
B20: Two years ago | P20: 320
B21: Last year | P21: 321
B22: Fatalities | P22: 322
B23: Three years ago | P23: 323
B24: Two years ago | P24: 324
B25: Last year | P25: 325
B26: Fire | P26: 326
B27: Three years ago | P27: 327
B28: Two years ago | P28: 328
B29: Last year | P29: 329
... B37: Last year | P37: 337
A38: 38 | B38: Does the site consult and involve employees on Safety & Health issues through Unions, Worker Committees or any other worker voice mechanisms? | I38: i Auditor should review how workers organisations are involved in supporting workers to protect their own health and safety. Does the company establish, implement and maintain a process for consultation and participation of workers at all applicable levels and functions, and, where they exist, workers’ representatives, in the development, planning, implementation, performance evaluation and actions for improvement of the Health and Safety, Environment, Business Ethics and Labor activities? | P38: 338
B39: If yes, please describe: | P39: 339
A40: 39 | B40: Does the facility provide HSE (Health, Safety & Environment) training to employees (full-time, temporary, intern/summer students or contractor/sub-contractors)? | I40: i Review qualification for persons managing API emissions (i.e. knowledge of regulatory requirements and quantification of APIs in treated waste water) Review the business area’s written qualifications for persons performing and reviewing environmental calculations and sampling. Ensure that the qualifications address knowledge of the process and applicable regulatory requirements. Are employees responsible for active ingredient wastewater control practices provided suitable and sufficient information, instruction and training to be able to understand the hazards associated with environmental releases of those active ingredients and isolated intermediates? Does the manufacturer ensure that the information regarding environmental impacts contained in company Safety Data Sheets (SDSs) (see Section 12 of SDSs) are appropriately communicated to employees who are responsible for control of environmental impacts associated with handling these materials? Expected that training programs would include, some of the following: i New employee orientation and HSE training ii safety information for visitors & suppliers iii Periodic refresher training iv Pre-start up process specific HSE training v Employee emergency response action training vi Hazard Communication vii Process Safety Management viii Environmental Practices ix Awareness program about facility’s main hazards and risks x PPE xi Powered Industrial Trucks xii Chemicals management xiii Ergonomics | P40: 340
B41: If so, how does it identify the training needs related to HSE (please provide details of the training program)? | P41: 343
A42: 40 | B42: Does the site have a program for improving safe behaviors? (Examples: Leadership and commitment training, open communication, feedback, Behavior Based Safety program) | P42: 349
B43: If yes, please describe: | P43: 350
A44: 41 | B44: Are appropriate hygiene practices observed and does the facility ensure the provision of safe, potable drinking water and hygienic facilities to all employees? | I44: i Water systems that could be impacted by contamination are tested for compounds of concern. i look for no eating, drinking, smoking in areas where chemicals may be present; separated storage of clean personal clothes and work clothes etc. | P44: 351
B45: Please explain: | P45: 352
A46: 42 | B46: Does the company provide adequate sanitary facilities (e.g. clean toilets, showers, hand-washing facilities). | P46: 353
B47: Please explain: | P47: 354
...

Sheet Company Specific Questions
A1: Pharmaceutical Supply Chain Initiative
A2: Self-Assessment Questionnaire and Audit Report Template | D2: In case of a partly remote audit: please specify the methods used when verification of self-assessment information was carried out remotely.
A4: Company Specific Questions (Optional) | L4: Reviewer comments
B5: i Please make sure the spelling of the tab name is exactly Company Specific Questions
B7: i Please complete spell check once finished, by pressing F7 on your keyboard | C7: Self-assessment answer | D7: Auditor evaluation | F7: Findings | H7: Points of excellence | L7: Reviewer responses, if needed
B8: i PSCI member company-specific questions can be included below. Sharing this section with the PSCI is optional. Members may delete this sheet from the workbook before sharing with PSCI. | C8: Completed by supplier prior to audit | D8: Evaluation | E8: Observations, details, comments | F8: Findings classification | G8: Description of finding | H8: Description of points of excellence | L8: <add instructions>
A9: 61
A10: 62
A11: 63
A12: 64
A13: 65
A14: 66
A15: 67
A16: 68
A17: 69
A18: 70
A19: 71
A20: 72
... A40: 92

Sheet Photos
B2: Photo report
B4: Guidance for adding images
B5: To help keep the size of the report as small as possible, we recommend that you use Microsoft Paint to resize your photos. To do so please follow these instructions: 1) To start Microsoft Paint, click 'Start', 'Programs', 'Accessories', then 'Paint'. 2) Open the image file you wish to edit. 3) Click the 'Home' Menu at the top and select "Resize”. 4) Choose a percentage figure to resize the image: to avoid distortion, choose the same percentage for horizontal and vertical stretch. Click OK. 5) Once you have the desired size, click File > Save As (to prevent overwriting the original image). Save As jpeg (this provides compression to make the file smaller).
B15: Photo | C15: Description
C16: Please describe the picture and how it supports the finding. Please specify which finding it relates to.
B17: Picture | C17: Description
B18: Picture | C18: Description
B19: Picture | C19: Description
B20: Picture | C20: Description
B21: Picture | C21: Description
B22: Picture | C22: Description
B23: Picture | C23: Description
B24: Picture | C24: Description
B25: Picture | C25: Description
B26: Picture | C26: Description
B27: Picture | C27: Description
B28: Picture | C28: Description
... B40: Picture | C40: Description

Sheet CAP
A1: Pharmaceutical Supply Chain Initiative
A2: Self-Assessment Questionnaire and Audit Report Template
A4: Corrective Action Plan
A6: Guidance on this section
A7: To display findings correctly, please make sure that all tabs are lablled correctly, according to the guidance in Cell C7 of each individual worksheet.
A8: The CAP list is automatically pulled together by the following step, and this list is NOT to be filled in manually.
A9: To show findings, select "Show all findings" using the buttons in the box below. To update the table, clear all filters by clicking the symbol in the top right, then click "show all findings".
A10: You can filter for the finding type that you'd like to display using the buttons in the 'Filter by finding type' box. To select more than one finding type, click the tick-box list icon (in the top-right corner of the boxes below).
A11: Columns C to F are automatically populated based on the responses in the other tab. The other columns need to be filled out manually. You can use the filter buttons to the right to further sort the findings.
A12: To clear filters, click the icon on the top right of each of the boxes.
P16: Filter findings using the slicers below
A18: Finding number (question number from audit report) | B18: PSCI Principle | C18: Finding Type | D18: Description of Finding | E18: Proposed Corrective Actions Details of actions to be taken to follow up on the Finding | F18: Completion Timescale | G18: Verification Method | H18: Responsible Person | I18: Verification Evidence and Comments Detail of corrective actions taken | J18: Status | K18: Category | L18: Sub-category | M18: Finding
A19: 1 | B19: =IF(CAP[[#This Row],[Category]]="Company Specific Questions",CAP[[#This Row],[Category]],CAP[[#This Row],[Category]]&": "&CAP[[#This Row],[Sub-category]]) -> Governance & Management Systems: Commitment and Accountability | C19: =IF(INDEX(INDIRECT("'"&CAP[[#This Row],[Category]]&"'!F9:F500"),MATCH(CAP[[#This Row],[Finding number (question number from audit report)]],INDIRECT("'"&CAP[[#This Row],[Category]]&"'!A9:A500"),0))=0,"Incomplete",INDEX(INDIRECT("'"&CAP[[#This Row],[Category]]&"'!F9:F500"),MATCH(CAP[[#This Row],[Finding number (question number from audit report)]],INDIRECT("'"&CAP[[#This Row],[Category]]&"'!A9:A500"),0))) -> Incomplete | D19: =IF(INDEX(INDIRECT("'"&CAP[[#This Row],[Category]]&"'!G9:G500"),MATCH(CAP[[#This Row],[Finding number (question number from audit report)]],INDIRECT("'"&CAP[[#This Row],[Category]]&"'!A9:A500"),0))=0,"-",INDEX(INDIRECT("'"&CAP[[#This Row],[Category]]&"'!G9:G500"),MATCH(CAP[[#This Row],[Finding number (question number from audit report)]],INDIRECT("'"&CAP[[#This Row],[Category]]&"'!A9:A500"),0))) -> - | K19: Governance & Management Systems | L19: Commitment and Accountability | M19: =IF(OR(CAP[[#This Row],[Finding Type]]="Critical finding",CAP[[#This Row],[Finding Type]]="Other finding",CAP[[#This Row],[Finding Type]]="Minor finding",CAP[[#This Row],[Finding Type]]="Non-finding remark",CAP[[#This Row],[Finding Type]]="Major finding"),"Show all findings",IF(CAP[[#This Row],[Finding Type]]="Incomplete","Show incomplete","Show questions with no findings")) -> Show incomplete
A20: 2 | B20: =IF(CAP[[#This Row],[Category]]="Company Specific Questions",CAP[[#This Row],[Category]],CAP[[#This Row],[Category]]&": "&CAP[[#This Row],[Sub-category]]) -> Governance & Management Systems: Legal and Customer Requirements | C20: =IF(INDEX(INDIRECT("'"&CAP[[#This Row],[Category]]&"'!F9:F500"),MATCH(CAP[[#This Row],[Finding number (question number from audit report)]],INDIRECT("'"&CAP[[#This Row],[Category]]&"'!A9:A500"),0))=0,"Incomplete",INDEX(INDIRECT("'"&CAP[[#This Row],[Category]]&"'!F9:F500"),MATCH(CAP[[#This Row],[Finding number (question number from audit report)]],INDIRECT("'"&CAP[[#This Row],[Category]]&"'!A9:A500"),0))) -> Incomplete | D20: =IF(INDEX(INDIRECT("'"&CAP[[#This Row],[Category]]&"'!G9:G500"),MATCH(CAP[[#This Row],[Finding number (question number from audit report)]],INDIRECT("'"&CAP[[#This Row],[Category]]&"'!A9:A500"),0))=0,"-",INDEX(INDIRECT("'"&CAP[[#This Row],[Category]]&"'!G9:G500"),MATCH(CAP[[#This Row],[Finding number (question number from audit report)]],INDIRECT("'"&CAP[[#This Row],[Category]]&"'!A9:A500"),0))) -> - | K20: Governance & Management Systems | L20: Legal and Customer Requirements | M20: =IF(OR(CAP[[#This Row],[Finding Type]]="Critical finding",CAP[[#This Row],[Finding Type]]="Other finding",CAP[[#This Row],[Finding Type]]="Minor finding",CAP[[#This Row],[Finding Type]]="Non-finding remark",CAP[[#This Row],[Finding Type]]="Major finding"),"Show all findings",IF(CAP[[#This Row],[Finding Type]]="Incomplete","Show incomplete","Show questions with no findings")) -> Show incomplete
A21: 3 | B21: =IF(CAP[[#This Row],[Category]]="Company Specific Questions",CAP[[#This Row],[Category]],CAP[[#This Row],[Category]]&": "&CAP[[#This Row],[Sub-category]]) -> Governance & Management Systems: Legal and Customer Requirements | C21: =IF(INDEX(INDIRECT("'"&CAP[[#This Row],[Category]]&"'!F9:F500"),MATCH(CAP[[#This Row],[Finding number (question number from audit report)]],INDIRECT("'"&CAP[[#This Row],[Category]]&"'!A9:A500"),0))=0,"Incomplete",INDEX(INDIRECT("'"&CAP[[#This Row],[Category]]&"'!F9:F500"),MATCH(CAP[[#This Row],[Finding number (question number from audit report)]],INDIRECT("'"&CAP[[#This Row],[Category]]&"'!A9:A500"),0))) -> Incomplete | D21: =IF(INDEX(INDIRECT("'"&CAP[[#This Row],[Category]]&"'!G9:G500"),MATCH(CAP[[#This Row],[Finding number (question number from audit report)]],INDIRECT("'"&CAP[[#This Row],[Category]]&"'!A9:A500"),0))=0,"-",INDEX(INDIRECT("'"&CAP[[#This Row],[Category]]&"'!G9:G500"),MATCH(CAP[[#This Row],[Finding number (question number from audit report)]],INDIRECT("'"&CAP[[#This Row],[Category]]&"'!A9:A500"),0))) -> - | K21: Governance & Management Systems | L21: Legal and Customer Requirements | M21: =IF(OR(CAP[[#This Row],[Finding Type]]="Critical finding",CAP[[#This Row],[Finding Type]]="Other finding",CAP[[#This Row],[Finding Type]]="Minor finding",CAP[[#This Row],[Finding Type]]="Non-finding remark",CAP[[#This Row],[Finding Type]]="Major finding"),"Show all findings",IF(CAP[[#This Row],[Finding Type]]="Incomplete","Show incomplete","Show questions with no findings")) -> Show incomplete
A22: 4 | B22: =IF(CAP[[#This Row],[Category]]="Company Specific Questions",CAP[[#This Row],[Category]],CAP[[#This Row],[Category]]&": "&CAP[[#This Row],[Sub-category]]) -> Governance & Management Systems: Legal and Customer Requirements | C22: =IF(INDEX(INDIRECT("'"&CAP[[#This Row],[Category]]&"'!F9:F500"),MATCH(CAP[[#This Row],[Finding number (question number from audit report)]],INDIRECT("'"&CAP[[#This Row],[Category]]&"'!A9:A500"),0))=0,"Incomplete",INDEX(INDIRECT("'"&CAP[[#This Row],[Category]]&"'!F9:F500"),MATCH(CAP[[#This Row],[Finding number (question number from audit report)]],INDIRECT("'"&CAP[[#This Row],[Category]]&"'!A9:A500"),0))) -> Incomplete | D22: =IF(INDEX(INDIRECT("'"&CAP[[#This Row],[Category]]&"'!G9:G500"),MATCH(CAP[[#This Row],[Finding number (question number from audit report)]],INDIRECT("'"&CAP[[#This Row],[Category]]&"'!A9:A500"),0))=0,"-",INDEX(INDIRECT("'"&CAP[[#This Row],[Category]]&"'!G9:G500"),MATCH(CAP[[#This Row],[Finding number (question number from audit report)]],INDIRECT("'"&CAP[[#This Row],[Category]]&"'!A9:A500"),0))) -> - | K22: Governance & Management Systems | L22: Legal and Customer Requirements | M22: =IF(OR(CAP[[#This Row],[Finding Type]]="Critical finding",CAP[[#This Row],[Finding Type]]="Other finding",CAP[[#This Row],[Finding Type]]="Minor finding",CAP[[#This Row],[Finding Type]]="Non-finding remark",CAP[[#This Row],[Finding Type]]="Major finding"),"Show all findings",IF(CAP[[#This Row],[Finding Type]]="Incomplete","Show incomplete","Show questions with no findings")) -> Show incomplete
A23: 5 | B23: =IF(CAP[[#This Row],[Category]]="Company Specific Questions",CAP[[#This Row],[Category]],CAP[[#This Row],[Category]]&": "&CAP[[#This Row],[Sub-category]]) -> Governance & Management Systems: Legal and Customer Requirements | C23: =IF(INDEX(INDIRECT("'"&CAP[[#This Row],[Category]]&"'!F9:F500"),MATCH(CAP[[#This Row],[Finding number (question number from audit report)]],INDIRECT("'"&CAP[[#This Row],[Category]]&"'!A9:A500"),0))=0,"Incomplete",INDEX(INDIRECT("'"&CAP[[#This Row],[Category]]&"'!F9:F500"),MATCH(CAP[[#This Row],[Finding number (question number from audit report)]],INDIRECT("'"&CAP[[#This Row],[Category]]&"'!A9:A500"),0))) -> Incomplete | D23: =IF(INDEX(INDIRECT("'"&CAP[[#This Row],[Category]]&"'!G9:G500"),MATCH(CAP[[#This Row],[Finding number (question number from audit report)]],INDIRECT("'"&CAP[[#This Row],[Category]]&"'!A9:A500"),0))=0,"-",INDEX(INDIRECT("'"&CAP[[#This Row],[Category]]&"'!G9:G500"),MATCH(CAP[[#This Row],[Finding number (question number from audit report)]],INDIRECT("'"&CAP[[#This Row],[Category]]&"'!A9:A500"),0))) -> - | K23: Governance & Management Systems | L23: Legal and Customer Requirements | M23: =IF(OR(CAP[[#This Row],[Finding Type]]="Critical finding",CAP[[#This Row],[Finding Type]]="Other finding",CAP[[#This Row],[Finding Type]]="Minor finding",CAP[[#This Row],[Finding Type]]="Non-finding remark",CAP[[#This Row],[Finding Type]]="Major finding"),"Show all findings",IF(CAP[[#This Row],[Finding Type]]="Incomplete","Show incomplete","Show questions with no findings")) -> Show incomplete
A24: 6 | B24: =IF(CAP[[#This Row],[Category]]="Company Specific Questions",CAP[[#This Row],[Category]],CAP[[#This Row],[Category]]&": "&CAP[[#This Row],[Sub-category]]) -> Governance & Management Systems: Risk Management | C24: =IF(INDEX(INDIRECT("'"&CAP[[#This Row],[Category]]&"'!F9:F500"),MATCH(CAP[[#This Row],[Finding number (question number from audit report)]],INDIRECT("'"&CAP[[#This Row],[Category]]&"'!A9:A500"),0))=0,"Incomplete",INDEX(INDIRECT("'"&CAP[[#This Row],[Category]]&"'!F9:F500"),MATCH(CAP[[#This Row],[Finding number (question number from audit report)]],INDIRECT("'"&CAP[[#This Row],[Category]]&"'!A9:A500"),0))) -> Incomplete | D24: =IF(INDEX(INDIRECT("'"&CAP[[#This Row],[Category]]&"'!G9:G500"),MATCH(CAP[[#This Row],[Finding number (question number from audit report)]],INDIRECT("'"&CAP[[#This Row],[Category]]&"'!A9:A500"),0))=0,"-",INDEX(INDIRECT("'"&CAP[[#This Row],[Category]]&"'!G9:G500"),MATCH(CAP[[#This Row],[Finding number (question number from audit report)]],INDIRECT("'"&CAP[[#This Row],[Category]]&"'!A9:A500"),0))) -> - | K24: Governance & Management Systems | L24: Risk Management | M24: =IF(OR(CAP[[#This Row],[Finding Type]]="Critical finding",CAP[[#This Row],[Finding Type]]="Other finding",CAP[[#This Row],[Finding Type]]="Minor finding",CAP[[#This Row],[Finding Type]]="Non-finding remark",CAP[[#This Row],[Finding Type]]="Major finding"),"Show all findings",IF(CAP[[#This Row],[Finding Type]]="Incomplete","Show incomplete","Show questions with no findings")) -> Show incomplete
A25: 7 | B25: =IF(CAP[[#This Row],[Category]]="Company Specific Questions",CAP[[#This Row],[Category]],CAP[[#This Row],[Category]]&": "&CAP[[#This Row],[Sub-category]]) -> Governance & Management Systems: Risk Management | C25: =IF(INDEX(INDIRECT("'"&CAP[[#This Row],[Category]]&"'!F9:F500"),MATCH(CAP[[#This Row],[Finding number (question number from audit report)]],INDIRECT("'"&CAP[[#This Row],[Category]]&"'!A9:A500"),0))=0,"Incomplete",INDEX(INDIRECT("'"&CAP[[#This Row],[Category]]&"'!F9:F500"),MATCH(CAP[[#This Row],[Finding number (question number from audit report)]],INDIRECT("'"&CAP[[#This Row],[Category]]&"'!A9:A500"),0))) -> Incomplete | D25: =IF(INDEX(INDIRECT("'"&CAP[[#This Row],[Category]]&"'!G9:G500"),MATCH(CAP[[#This Row],[Finding number (question number from audit report)]],INDIRECT("'"&CAP[[#This Row],[Category]]&"'!A9:A500"),0))=0,"-",INDEX(INDIRECT("'"&CAP[[#This Row],[Category]]&"'!G9:G500"),MATCH(CAP[[#This Row],[Finding number (question number from audit report)]],INDIRECT("'"&CAP[[#This Row],[Category]]&"'!A9:A500"),0))) -> - | K25: Governance & Management Systems | L25: Risk Management | M25: =IF(OR(CAP[[#This Row],[Finding Type]]="Critical finding",CAP[[#This Row],[Finding Type]]="Other finding",CAP[[#This Row],[Finding Type]]="Minor finding",CAP[[#This Row],[Finding Type]]="Non-finding remark",CAP[[#This Row],[Finding Type]]="Major finding"),"Show all findings",IF(CAP[[#This Row],[Finding Type]]="Incomplete","Show incomplete","Show questions with no findings")) -> Show incomplete
A26: 8 | B26: =IF(CAP[[#This Row],[Category]]="Company Specific Questions",CAP[[#This Row],[Category]],CAP[[#This Row],[Category]]&": "&CAP[[#This Row],[Sub-category]]) -> Governance & Management Systems: Risk Management | C26: =IF(INDEX(INDIRECT("'"&CAP[[#This Row],[Category]]&"'!F9:F500"),MATCH(CAP[[#This Row],[Finding number (question number from audit report)]],INDIRECT("'"&CAP[[#This Row],[Category]]&"'!A9:A500"),0))=0,"Incomplete",INDEX(INDIRECT("'"&CAP[[#This Row],[Category]]&"'!F9:F500"),MATCH(CAP[[#This Row],[Finding number (question number from audit report)]],INDIRECT("'"&CAP[[#This Row],[Category]]&"'!A9:A500"),0))) -> Incomplete | D26: =IF(INDEX(INDIRECT("'"&CAP[[#This Row],[Category]]&"'!G9:G500"),MATCH(CAP[[#This Row],[Finding number (question number from audit report)]],INDIRECT("'"&CAP[[#This Row],[Category]]&"'!A9:A500"),0))=0,"-",INDEX(INDIRECT("'"&CAP[[#This Row],[Category]]&"'!G9:G500"),MATCH(CAP[[#This Row],[Finding number (question number from audit report)]],INDIRECT("'"&CAP[[#This Row],[Category]]&"'!A9:A500"),0))) -> - | K26: Governance & Management Systems | L26: Risk Management | M26: =IF(OR(CAP[[#This Row],[Finding Type]]="Critical finding",CAP[[#This Row],[Finding Type]]="Other finding",CAP[[#This Row],[Finding Type]]="Minor finding",CAP[[#This Row],[Finding Type]]="Non-finding remark",CAP[[#This Row],[Finding Type]]="Major finding"),"Show all findings",IF(CAP[[#This Row],[Finding Type]]="Incomplete","Show incomplete","Show questions with no findings")) -> Show incomplete
A27: 9 | B27: =IF(CAP[[#This Row],[Category]]="Company Specific Questions",CAP[[#This Row],[Category]],CAP[[#This Row],[Category]]&": "&CAP[[#This Row],[Sub-category]]) -> Governance & Management Systems: Risk Management | C27: =IF(INDEX(INDIRECT("'"&CAP[[#This Row],[Category]]&"'!F9:F500"),MATCH(CAP[[#This Row],[Finding number (question number from audit report)]],INDIRECT("'"&CAP[[#This Row],[Category]]&"'!A9:A500"),0))=0,"Incomplete",INDEX(INDIRECT("'"&CAP[[#This Row],[Category]]&"'!F9:F500"),MATCH(CAP[[#This Row],[Finding number (question number from audit report)]],INDIRECT("'"&CAP[[#This Row],[Category]]&"'!A9:A500"),0))) -> Incomplete | D27: =IF(INDEX(INDIRECT("'"&CAP[[#This Row],[Category]]&"'!G9:G500"),MATCH(CAP[[#This Row],[Finding number (question number from audit report)]],INDIRECT("'"&CAP[[#This Row],[Category]]&"'!A9:A500"),0))=0,"-",INDEX(INDIRECT("'"&CAP[[#This Row],[Category]]&"'!G9:G500"),MATCH(CAP[[#This Row],[Finding number (question number from audit report)]],INDIRECT("'"&CAP[[#This Row],[Category]]&"'!A9:A500"),0))) -> - | K27: Governance & Management Systems | L27: Risk Management | M27: =IF(OR(CAP[[#This Row],[Finding Type]]="Critical finding",CAP[[#This Row],[Finding Type]]="Other finding",CAP[[#This Row],[Finding Type]]="Minor finding",CAP[[#This Row],[Finding Type]]="Non-finding remark",CAP[[#This Row],[Finding Type]]="Major finding"),"Show all findings",IF(CAP[[#This Row],[Finding Type]]="Incomplete","Show incomplete","Show questions with no findings")) -> Show incomplete
