Workbook
Name Check190: Lists!$G$16
Name Check191: Lists!$G$17
Name Check192: Lists!$G$19
Name Methods: Lists!$R$2:$R$3

Sheet Overview & Guidance
B2: Pharmaceutical Supply Chain Initiative
B3: Corrective Action Plan Report Template
B4: Version 5.0
B5: December 2021
B7: Overview
B9: Guidance for completion
B11: Cells in this colour should be completed by the supplier
B12: Cells in this colour should be completed by the auditor
B16: 1. | C16: Audit Information | G16: Guidance notes:
C17: Audit report number:
C18: Report owner: | G18: This is the company paying/sponsoring the audit. If a PSCI Member, the name should be removed before the report is uploaded to the PSCI audit sharing platform.
C19: Date of audit: | D19: DD/MM/YYYY
B21: 2. | C21: Auditor Information
C22: Audit firm name:
B24: 3. | C24: Facility Details
C25: Company name:
C26: Site name: | G26: If different from company name
C27: Parent company name: | G27: If applicable
C28: Site street address:
C29: Site city: | E29: Site state/province/county:
C30: Site postal/zip code: | E30: Site country:
C31: Duns number (9 digit code):
B33: 4. | C33: Site Contact Information
C34: Site representative name (host): | E34: Title: | G34: The person that hosted the audit
C35: Phone number: | E35: Email address:
C36: Management representative name: | E36: Title:
C37: HSE representative name: | E37: Title: | G37: If applicable
C38: HR representative name: | E38: Title: | G38: If applicable
B40: 5. | C40: Findings Summary
C42: Finding classification method | D42: Critical/Major/Minor
C44: Section | D44: =Lists!R5 -> Critical | E44: =Lists!R6 -> Major | F44: =Lists!R7 -> Minor
C45: Management Systems
C46: Ethics
C47: Human Rights & Labor
C48: Environmental Compliance and Risk Management
C49: Health and Safety Compliance and Risk Management
B51: Definitions:
B52: Critical Findings: Are very high risk findings that require immediate action to protect human life, the health of employees or the environment; May result in loss of license to operate or serious damage to reputation; Require immediate corrective action by the supplier; Need to be communicated to the audit sponsor prior to audit report finalization. Major Findings: Findings that may pose major impacts to workers, the community, or the environment. Findings that may pose major regulatory non-compliances or illustrate systemic program gaps. Minor Findings: Findings that may pose minor impacts to workers, the community, the environment. Findings that may pose minor regulatory non-compliances. Non-Finding remarks: Are where the auditor wishes to raise an important comment, but this comment would not constitute any type of finding.

Sheet CAP
B2: Corrective Action Plan | L2: Guidance Note
B5: Finding number Reference the question number from the audit report where the finding is recorded | C5: Finding Type C= Critical M = Major Mi = Minor Please indicate finding types | D5: Description of Finding Please describe the finding (as done in the PSCI Audit Report) | E5: Corrective Actions Details of actions to be taken to follow up on the Finding | F5: Completion Timescale Timescale (Immediate, 30, 60, 90,180,365 days) | G5: Verification Method Desktop / Follow-Up Visit | H5: Responsible Person Note if management agree to the Finding, and document name of responsible person | I5: Verification Evidence and Comments Detail of corrective actions taken | J5: Status Open/Closed or comment | L5: Please select from the dropdown list for 'Finding number', 'Finding Type', 'Completion Timescale', 'Verification Method' and 'Status' columns.
B28: Note
B29: It is not possible in an audit, with a limited time frame, to identify every area requiring attention. It is the responsibility of the audited party to establish, implement, and maintain effective systems and procedures that comply with the regulatory requirements. Due to the size of the site only the most important buildings, facilities, and EHS topics could be inspected or discussed during the audit. Critical Findings: Are very high risk findings that require immediate action to protect human life, the health of employees or the environment; May result in loss of license to operate or serious damage to reputation; Require immediate corrective action by the supplier; Need to be communicated to the audit sponsor prior to audit report finalization. Major Findings: Findings that may pose major impacts to workers, the community, or the environment. Findings that may pose major regulatory non-compliances or illustrate systemic program gaps. Minor Findings: Findings that may pose minor impacts to workers, the community, the environment. Findings that may pose minor regulatory non-compliances.
B36: Confirmation | G36: Guidance Note
B37: Version 1 - Audit Closing Meeting | G37: At the end of the audit, the site management are asked to sign this document (in cell C39-41) to document their agreement on the findings list and the proposed corrective actions. This can be done by signing a print out of the draft CAP.
B38: Please sign this document confirming that the above findings have been discussed with and understood by you (the site management)
B39: Site Representative Electronic Signature: | C39: Insert signature | D39: Name: | G39: To add an electronic signature, insert a suitable scanned image or photo of it and fill in your details in the adjacent cells. We recommend that you use Microsoft Paint to resize your photos. To do so please follow these instructions: 1) To start Microsoft Paint, click 'Start', 'Programs', 'Accessories', then 'Paint'. 2) Open the image file you wish to edit. 3) Click the 'Home' Menu at the top and select "Resize”. 4) Choose a percentage figure to resize the image: to avoid distortion, choose the same percentage for horizontal and vertical stretch. Click OK. 5) Once you have the desired size, click File > Save As (to prevent overwriting the original image). Save As jpeg (this provides compression to make the file smaller) and insert this picture in the relevant box.
D40: Title:
D41: Date:
B42: Auditor Electronic Signature: | C42: Insert signature | D42: Name:
D43: Title:
D44: Date:
B45: Please indicate below if you, the site management, dispute any of the findings:
B46: I dispute the following numbered findings:
B48: Version 2 | G48: Version 2 is to be used to reflect updates or changes to the CAP. New versions of the CAP report should be signed by the site management and the PSCI member company.
B49: Site Representative Electronic Signature: | C49: Insert signature | D49: Name:
D50: Title:
D51: Date:
B52: PSCI Member Electronic Signature: | C52: Insert signature | D52: Name:
D53: Title:
D54: Date:
B55: Please indicate below if you, the site management, dispute any of the findings:
B56: I dispute the following numbered Findings:
B58: Version 3 | G58: Version 3 is to be used to reflect updates or changes to the CAP. New versions of the CAP report should be signed by the site management and the PSCI member company.
B59: Site Representative Electronic Signature: | C59: Insert signature | D59: Name:
D60: Title:
D61: Date:
B62: PSCI Member Electronic Signature: | C62: Insert signature | D62: Name:
D63: Title:
D64: Date:
B65: Please indicate below if you, the site management, dispute any of the findings:
B66: I dispute the following numbered Findings:
B69: Please indicate if this Audit Report and Corrective Action Plan can be shared with PSCI member companies.
B70: Agree to share the completed Audit Report and Corrective Action Report with all current and future PSCI members: | G70: Please select from dropdown list
B71: Agree to share completed Audit Report and Corrective Action Report with only specific PSCI members (please list, the full list of members can be found at https://pscinitiative.org/members):
B74: Electronic Signature: | C74: Insert signature | D74: Name:
D75: Title:
D76: Date:
B77: Site comments:

Sheet Finding Descriptions
A2: 1 | B2: 1. | C2: =VLOOKUP(B2,#REF!,8,FALSE) -> #REF!
A3: 2 | B3: 2. | C3: =VLOOKUP(B3,#REF!,8,FALSE) -> #REF!
A4: 3 | B4: 3. | C4: =VLOOKUP(B4,#REF!,8,FALSE) -> #REF!
A5: 4 | B5: 4. | C5: =VLOOKUP(B5,#REF!,8,FALSE) -> #REF!
A6: 5 | B6: 5. | C6: =VLOOKUP(B6,#REF!,8,FALSE) -> #REF!
A7: 6 | B7: 6. | C7: =VLOOKUP(B7,#REF!,8,FALSE) -> #REF!
A8: 7 | B8: 7. | C8: =VLOOKUP(B8,#REF!,8,FALSE) -> #REF!
A9: 8 | B9: 8. | C9: =VLOOKUP(B9,#REF!,8,FALSE) -> #REF!
A10: 9 | B10: 9. | C10: =VLOOKUP(B10,#REF!,8,FALSE) -> #REF!
A11: 10 | B11: 10. | C11: =VLOOKUP(B11,#REF!,8,FALSE) -> #REF!
A12: 11 | B12: 11. | C12: =VLOOKUP(B12,#REF!,8,FALSE) -> #REF!
A13: 12 | B13: 12. | C13: =VLOOKUP(B13,#REF!,8,FALSE) -> #REF!
... A60: 59 | B60: 59. | C60: =VLOOKUP(B60,#REF!,8,FALSE) -> #REF!
A61: 60 | B61: 60. | C61: =VLOOKUP('Finding Descriptions'!B61,#REF!,8,FALSE) -> #REF!
A62: 61 | B62: 61. | C62: =VLOOKUP('Finding Descriptions'!B62,#REF!,8,FALSE) -> #REF!
A63: 62 | B63: 62. | C63: =VLOOKUP('Finding Descriptions'!B63,#REF!,8,FALSE) -> #REF!
A64: 63 | B64: 63. | C64: =VLOOKUP('Finding Descriptions'!B64,#REF!,8,FALSE) -> #REF!
A65: 64 | B65: 64. | C65: =VLOOKUP('Finding Descriptions'!B65,#REF!,8,FALSE) -> #REF!
A66: 65 | B66: 65. | C66: =VLOOKUP('Finding Descriptions'!B66,#REF!,8,FALSE) -> #REF!
A67: 66 | B67: 66. | C67: =VLOOKUP('Finding Descriptions'!B67,#REF!,8,FALSE) -> #REF!
A68: 67 | B68: 67. | C68: =VLOOKUP('Finding Descriptions'!B68,#REF!,8,FALSE) -> #REF!
A69: 68 | B69: 68. | C69: =VLOOKUP('Finding Descriptions'!B69,#REF!,8,FALSE) -> #REF!
A70: 69 | B70: 69. | C70: =VLOOKUP('Finding Descriptions'!B70,#REF!,8,FALSE) -> #REF!
A71: 70 | B71: 70. | C71: =VLOOKUP('Finding Descriptions'!B71,#REF!,8,FALSE) -> #REF!
A72: 71 | B72: 71. | C72: =VLOOKUP('Finding Descriptions'!B72,#REF!,8,FALSE) -> #REF!
... A128: 127 | B128: 127. | C128: =VLOOKUP('Finding Descriptions'!B128,#REF!,8,FALSE) -> #REF!

Sheet Lists
B2: Yes | G2: Cash pay packet containing money and a pay slip | M2: 1 | O2: Immediate | R2: Critical/Other
B3: No | G3: Cheque | M3: 2 | O3: 30 days | R3: Critical/Major/Minor
G4: Bank transfer | M4: 3 | O4: 60 days
B5: No finding | G5: Other | M5: 4 | O5: 90 days | R5: Critical | S5: =R5&" finding" -> Critical finding
B6: Critical finding | M6: 5 | O6: 180 days | R6: =IF('Overview & Guidance'!D42=R3,"Major","Other") -> Major | S6: =R6&" finding" -> Major finding
B7: Other finding | G7: Yes | M7: 6 | O7: 365 days | R7: =IF('Overview & Guidance'!D42=R3,"Minor","") -> Minor | S7: =IF(R7="","",R7&" finding") -> Minor finding
B8: Excellent finding | G8: No | M8: 7
G9: NA | M9: 8 | O9: Desktop
B10: By on-site assessment / audit | M10: 9 | O10: Follow-Up visit
B11: By desk-top assessment (e.g. questionnaires) | G11: Yes, off-site | M11: 10
G12: Yes, on-site | M12: 11 | O12: Open
B13: Yes | G13: Yes, both off-site and on-site | M13: 12 | O13: Closed
B14: No | G14: No | M14: 13
B15: Not applicable | M15: 14
B16: Not assessed | G16: < 1mg/m3 | M16: 15
G17: 1-10 mg/m3 | M17: 16
B18: API | G18: 10-100 mg/m3 | M18: 17
B19: Biological manufacture | G19: >100 mg/m3 | M19: 18
B20: Chemical manufacture | M20: 19
B21: Contract Research Laboratories | G21: Respiratory protective devices | M21: 20
B22: Finished Formulations | G22: Engineering controls | M22: 21
B23: Logistics / Warehouse | G23: Both | M23: 22
B24: Primary Packaging | M24: 23
B25: Other (please describe) | G25: Yes, administrative Controls | M25: 24
G26: Yes, engineering Controls | M26: 25
B27: Rural | G27: Yes, both | M27: 26
B28: Industrial | G28: No | M28: 27
B29: Residential | M29: 28
B30: Mixed commercial setting | G30: Yes, fire/smoke detectors | M30: 29
G31: Yes, sprinkler or suppression systems | M31: 30
B32: Afghanistan | G32: Yes, both | M32: 31
B33: Albania | G33: No | M33: 32
B34: Algeria | M34: 33
B35: Andorra | M35: 34
B36: Angola | M36: 35
B37: Anguilla | M37: 36
B38: Antarctica | M38: 37
B39: Antigua and Barbuda | M39: 38
B40: Argentina | M40: 39
B41: Armenia | M41: 40
B42: Aruba | M42: 41
B43: Australia | M43: 42
B44: Austria | M44: 43
B45: Azerbaijan | M45: 44
... B212: Reunion | M212: 211
B213: Romania
B214: Russian Federation
B215: Rwanda
B216: Saint Pierre and Miquelon
B217: Samoa, American
B218: San Marino
B219: Sao Tome and Principe
B220: Saudi Arabia
B221: Senegal
B222: Serbia
B223: Seychelles
B224: Sierra Leone
... B278: Zimbabwe
